Package: struct Version: 1.12.0 Command: /Library/Frameworks/R.framework/Resources/bin/R CMD INSTALL struct StartedAt: 2023-10-15 15:13:03 -0400 (Sun, 15 Oct 2023) EndedAt: 2023-10-15 15:14:36 -0400 (Sun, 15 Oct 2023) EllapsedTime: 93.2 seconds RetCode: 0 Status: OK