Package: spatialHeatmap Version: 2.6.2 Command: chmod a+r spatialHeatmap -R && F:\biocbuild\bbs-3.17-bioc\R\bin\R.exe CMD build --keep-empty-dirs --no-resave-data spatialHeatmap StartedAt: 2023-10-15 22:33:44 -0400 (Sun, 15 Oct 2023) EndedAt: 2023-10-15 22:41:27 -0400 (Sun, 15 Oct 2023) EllapsedTime: 462.9 seconds RetCode: 0 Status: OK PackageFile: spatialHeatmap_2.6.2.tar.gz PackageFileSize: 26.17 MiB