Package: spatialHeatmap Version: 2.6.2 Command: rm -rf spatialHeatmap.buildbin-libdir && mkdir spatialHeatmap.buildbin-libdir && F:\biocbuild\bbs-3.17-bioc\R\bin\R.exe CMD INSTALL --build --library=spatialHeatmap.buildbin-libdir spatialHeatmap_2.6.2.tar.gz StartedAt: 2023-10-16 09:35:17 -0400 (Mon, 16 Oct 2023) EndedAt: 2023-10-16 09:36:27 -0400 (Mon, 16 Oct 2023) EllapsedTime: 70.2 seconds RetCode: 0 Status: OK PackageFile: spatialHeatmap_2.6.2.zip PackageFileSize: 25.83 MiB