Package: spatialHeatmap Version: 2.6.2 Command: rm -rf spatialHeatmap.buildbin-libdir && mkdir spatialHeatmap.buildbin-libdir && /Users/biocbuild/BBS/utils/build-universal.sh spatialHeatmap_2.6.2.tar.gz /Library/Frameworks/R.framework/Resources/bin/R spatialHeatmap.buildbin-libdir StartedAt: 2023-10-16 10:16:36 -0400 (Mon, 16 Oct 2023) EndedAt: 2023-10-16 10:19:27 -0400 (Mon, 16 Oct 2023) EllapsedTime: 171.1 seconds RetCode: 0 Status: OK PackageFile: spatialHeatmap_2.6.2.tgz PackageFileSize: 30.1 MiB