Package: sparseMatrixStats Version: 1.12.2 Command: /home/biocbuild/bbs-3.17-bioc/R/bin/R CMD check --install=check:sparseMatrixStats.install-out.txt --library=/home/biocbuild/bbs-3.17-bioc/R/site-library --timings sparseMatrixStats_1.12.2.tar.gz StartedAt: 2023-10-16 01:17:44 -0400 (Mon, 16 Oct 2023) EndedAt: 2023-10-16 01:18:44 -0400 (Mon, 16 Oct 2023) EllapsedTime: 60.6 seconds RetCode: 0 Status: OK CheckDir: sparseMatrixStats.Rcheck Warnings: 0