Package: sparseMatrixStats Version: 1.12.2 Command: /Library/Frameworks/R.framework/Resources/bin/R CMD check --install=check:sparseMatrixStats.install-out.txt --library=/Library/Frameworks/R.framework/Resources/library --no-vignettes --timings sparseMatrixStats_1.12.2.tar.gz StartedAt: 2023-10-16 07:24:10 -0400 (Mon, 16 Oct 2023) EndedAt: 2023-10-16 07:26:41 -0400 (Mon, 16 Oct 2023) EllapsedTime: 151.5 seconds RetCode: 0 Status: OK CheckDir: sparseMatrixStats.Rcheck Warnings: 0