Package: sparseDOSSA Version: 1.24.0 Command: chmod a+r sparseDOSSA -R && F:\biocbuild\bbs-3.17-bioc\R\bin\R.exe CMD build --keep-empty-dirs --no-resave-data sparseDOSSA StartedAt: 2023-10-15 22:31:38 -0400 (Sun, 15 Oct 2023) EndedAt: 2023-10-15 22:32:25 -0400 (Sun, 15 Oct 2023) EllapsedTime: 46.8 seconds RetCode: 0 Status: OK PackageFile: sparseDOSSA_1.24.0.tar.gz PackageFileSize: 969.8 KiB