Package: simplifyEnrichment Version: 1.10.0 Command: /home/biocbuild/bbs-3.17-bioc/R/bin/R CMD build --keep-empty-dirs --no-resave-data simplifyEnrichment StartedAt: 2023-10-15 18:33:29 -0400 (Sun, 15 Oct 2023) EndedAt: 2023-10-15 18:45:05 -0400 (Sun, 15 Oct 2023) EllapsedTime: 696.0 seconds RetCode: 0 Status: OK PackageFile: simplifyEnrichment_1.10.0.tar.gz PackageFileSize: 6.321 MiB