Package: simpleSeg Version: 1.2.5 Command: /home/biocbuild/bbs-3.17-bioc/R/bin/R CMD INSTALL simpleSeg StartedAt: 2023-10-15 15:34:35 -0400 (Sun, 15 Oct 2023) EndedAt: 2023-10-15 15:35:21 -0400 (Sun, 15 Oct 2023) EllapsedTime: 45.8 seconds RetCode: 0 Status: OK