Package: simpleSeg Version: 1.2.5 Command: /home/biocbuild/bbs-3.17-bioc/R/bin/R CMD build --keep-empty-dirs --no-resave-data simpleSeg StartedAt: 2023-10-15 18:33:26 -0400 (Sun, 15 Oct 2023) EndedAt: 2023-10-15 18:36:25 -0400 (Sun, 15 Oct 2023) EllapsedTime: 178.6 seconds RetCode: 0 Status: OK PackageFile: simpleSeg_1.2.5.tar.gz PackageFileSize: 4.54 MiB