Package: sigPathway Version: 1.68.0 Command: /home/biocbuild/bbs-3.17-bioc/R/bin/R CMD INSTALL sigPathway StartedAt: 2023-10-15 15:09:03 -0400 (Sun, 15 Oct 2023) EndedAt: 2023-10-15 15:09:09 -0400 (Sun, 15 Oct 2023) EllapsedTime: 5.7 seconds RetCode: 1 Status: ERROR