Package: sigFeature Version: 1.18.0 Command: /home/biocbuild/bbs-3.17-bioc/R/bin/R CMD INSTALL sigFeature StartedAt: 2023-10-15 15:44:14 -0400 (Sun, 15 Oct 2023) EndedAt: 2023-10-15 15:44:38 -0400 (Sun, 15 Oct 2023) EllapsedTime: 23.7 seconds RetCode: 0 Status: OK