Package: sigFeature Version: 1.18.0 Command: /home/biocbuild/bbs-3.17-bioc/R/bin/R CMD build --keep-empty-dirs --no-resave-data sigFeature StartedAt: 2023-10-15 18:32:19 -0400 (Sun, 15 Oct 2023) EndedAt: 2023-10-15 18:32:53 -0400 (Sun, 15 Oct 2023) EllapsedTime: 34.3 seconds RetCode: 0 Status: OK PackageFile: sigFeature_1.18.0.tar.gz PackageFileSize: 334 KiB