Package: scuttle Version: 1.10.3 Command: rm -rf scuttle.buildbin-libdir && mkdir scuttle.buildbin-libdir && F:\biocbuild\bbs-3.17-bioc\R\bin\R.exe CMD INSTALL --build --library=scuttle.buildbin-libdir scuttle_1.10.3.tar.gz StartedAt: 2023-10-16 09:30:39 -0400 (Mon, 16 Oct 2023) EndedAt: 2023-10-16 09:32:17 -0400 (Mon, 16 Oct 2023) EllapsedTime: 98.2 seconds RetCode: 0 Status: OK PackageFile: scuttle_1.10.3.zip PackageFileSize: 1.587 MiB