Package: scran Version: 1.28.2 Command: /home/biocbuild/bbs-3.17-bioc/R/bin/R CMD build --keep-empty-dirs --no-resave-data scran StartedAt: 2023-10-15 18:26:43 -0400 (Sun, 15 Oct 2023) EndedAt: 2023-10-15 18:30:50 -0400 (Sun, 15 Oct 2023) EllapsedTime: 247.0 seconds RetCode: 0 Status: OK PackageFile: scran_1.28.2.tar.gz PackageFileSize: 1.719 MiB