Package: scran Version: 1.28.2 Command: /Library/Frameworks/R.framework/Resources/bin/R CMD INSTALL scran StartedAt: 2023-10-15 16:15:59 -0400 (Sun, 15 Oct 2023) EndedAt: 2023-10-15 16:20:29 -0400 (Sun, 15 Oct 2023) EllapsedTime: 270.1 seconds RetCode: 0 Status: OK