Package: scran Version: 1.28.2 Command: /Library/Frameworks/R.framework/Resources/bin/R CMD build --keep-empty-dirs --no-resave-data scran StartedAt: 2023-10-15 21:07:05 -0400 (Sun, 15 Oct 2023) EndedAt: 2023-10-15 21:18:00 -0400 (Sun, 15 Oct 2023) EllapsedTime: 655.1 seconds RetCode: 0 Status: OK PackageFile: scran_1.28.2.tar.gz PackageFileSize: 1.724 MiB