Package: scran Version: 1.28.2 Command: rm -rf scran.buildbin-libdir && mkdir scran.buildbin-libdir && /Users/biocbuild/BBS/utils/build-universal.sh scran_1.28.2.tar.gz /Library/Frameworks/R.framework/Resources/bin/R scran.buildbin-libdir StartedAt: 2023-10-16 10:10:47 -0400 (Mon, 16 Oct 2023) EndedAt: 2023-10-16 10:15:49 -0400 (Mon, 16 Oct 2023) EllapsedTime: 302.3 seconds RetCode: 0 Status: OK PackageFile: scran_1.28.2.tgz PackageFileSize: 2.181 MiB