Package: scmeth Version: 1.20.0 Command: /Library/Frameworks/R.framework/Resources/bin/R CMD build --keep-empty-dirs --no-resave-data scmeth StartedAt: 2023-10-15 21:04:53 -0400 (Sun, 15 Oct 2023) EndedAt: 2023-10-15 21:08:52 -0400 (Sun, 15 Oct 2023) EllapsedTime: 239.0 seconds RetCode: 1 Status: ERROR PackageFile: None PackageFileSize: NA