Package: scmeth Version: 1.20.0 Command: rm -rf scmeth.buildbin-libdir && mkdir scmeth.buildbin-libdir && /Users/biocbuild/BBS/utils/build-universal.sh scmeth_1.20.0.tar.gz /Library/Frameworks/R.framework/Resources/bin/R scmeth.buildbin-libdir StartedAt: 2023-10-02 10:26:06 -0400 (Mon, 02 Oct 2023) EndedAt: 2023-10-02 10:28:37 -0400 (Mon, 02 Oct 2023) EllapsedTime: 151.1 seconds RetCode: 0 Status: OK PackageFile: scmeth_1.20.0.tgz PackageFileSize: 814.5 KiB