Package: scifer Version: 1.2.0 Command: chmod a+r scifer -R && F:\biocbuild\bbs-3.17-bioc\R\bin\R.exe CMD build --keep-empty-dirs --no-resave-data scifer StartedAt: 2023-10-15 22:09:03 -0400 (Sun, 15 Oct 2023) EndedAt: 2023-10-15 22:10:57 -0400 (Sun, 15 Oct 2023) EllapsedTime: 113.0 seconds RetCode: 0 Status: OK PackageFile: scifer_1.2.0.tar.gz PackageFileSize: 2.06 MiB