Package: scifer Version: 1.2.0 Command: rm -rf scifer.buildbin-libdir && mkdir scifer.buildbin-libdir && /Users/biocbuild/BBS/utils/build-universal.sh scifer_1.2.0.tar.gz /Library/Frameworks/R.framework/Resources/bin/R scifer.buildbin-libdir StartedAt: 2023-10-16 10:10:06 -0400 (Mon, 16 Oct 2023) EndedAt: 2023-10-16 10:11:14 -0400 (Mon, 16 Oct 2023) EllapsedTime: 68.0 seconds RetCode: 0 Status: OK PackageFile: scifer_1.2.0.tgz PackageFileSize: 2.273 MiB