Package: schex Version: 1.14.0 Command: rm -rf schex.buildbin-libdir && mkdir schex.buildbin-libdir && /Users/biocbuild/BBS/utils/build-universal.sh schex_1.14.0.tar.gz /Library/Frameworks/R.framework/Resources/bin/R schex.buildbin-libdir StartedAt: 2023-10-10 10:12:31 -0400 (Tue, 10 Oct 2023) EndedAt: 2023-10-10 10:14:25 -0400 (Tue, 10 Oct 2023) EllapsedTime: 114.3 seconds RetCode: 0 Status: OK PackageFile: schex_1.14.0.tgz PackageFileSize: 3.209 MiB