Package: sccomp Version: 1.4.0 Command: /home/biocbuild/bbs-3.17-bioc/R/bin/R CMD build --keep-empty-dirs --no-resave-data sccomp StartedAt: 2023-10-15 18:22:45 -0400 (Sun, 15 Oct 2023) EndedAt: 2023-10-15 18:46:13 -0400 (Sun, 15 Oct 2023) EllapsedTime: 1408.6 seconds RetCode: 0 Status: OK PackageFile: sccomp_1.4.0.tar.gz PackageFileSize: 2.027 MiB