Package: scTreeViz Version: 1.6.0 Command: chmod a+r scTreeViz -R && F:\biocbuild\bbs-3.17-bioc\R\bin\R.exe CMD build --keep-empty-dirs --no-resave-data scTreeViz StartedAt: 2023-10-15 22:15:27 -0400 (Sun, 15 Oct 2023) EndedAt: 2023-10-15 22:18:48 -0400 (Sun, 15 Oct 2023) EllapsedTime: 200.5 seconds RetCode: 0 Status: OK PackageFile: scTreeViz_1.6.0.tar.gz PackageFileSize: 2.209 MiB