Package: scRecover Version: 1.16.0 Command: /home/biocbuild/bbs-3.17-bioc/R/bin/R CMD build --keep-empty-dirs --no-resave-data scRecover StartedAt: 2023-10-15 18:26:55 -0400 (Sun, 15 Oct 2023) EndedAt: 2023-10-15 18:28:38 -0400 (Sun, 15 Oct 2023) EllapsedTime: 103.2 seconds RetCode: 0 Status: OK PackageFile: scRecover_1.16.0.tar.gz PackageFileSize: 1.713 MiB