Package: scReClassify Version: 1.6.0 Command: F:\biocbuild\bbs-3.17-bioc\R\bin\R.exe CMD INSTALL scReClassify StartedAt: 2023-10-15 15:58:00 -0400 (Sun, 15 Oct 2023) EndedAt: 2023-10-15 15:58:24 -0400 (Sun, 15 Oct 2023) EllapsedTime: 24.1 seconds RetCode: 0 Status: OK