Package: scReClassify Version: 1.6.0 Command: rm -rf scReClassify.buildbin-libdir && mkdir scReClassify.buildbin-libdir && /Users/biocbuild/BBS/utils/build-universal.sh scReClassify_1.6.0.tar.gz /Library/Frameworks/R.framework/Resources/bin/R scReClassify.buildbin-libdir StartedAt: 2023-10-16 10:10:57 -0400 (Mon, 16 Oct 2023) EndedAt: 2023-10-16 10:12:08 -0400 (Mon, 16 Oct 2023) EllapsedTime: 71.1 seconds RetCode: 0 Status: OK PackageFile: scReClassify_1.6.0.tgz PackageFileSize: 2.481 MiB