Package: scRNAseqApp Version: 1.0.1 Command: F:\biocbuild\bbs-3.17-bioc\R\bin\R.exe CMD INSTALL scRNAseqApp StartedAt: 2023-10-15 16:38:59 -0400 (Sun, 15 Oct 2023) EndedAt: 2023-10-15 16:40:11 -0400 (Sun, 15 Oct 2023) EllapsedTime: 72.2 seconds RetCode: 0 Status: OK