Package: scRNAseqApp Version: 1.0.1 Command: rm -rf scRNAseqApp.buildbin-libdir && mkdir scRNAseqApp.buildbin-libdir && F:\biocbuild\bbs-3.17-bioc\R\bin\R.exe CMD INSTALL --build --library=scRNAseqApp.buildbin-libdir scRNAseqApp_1.0.1.tar.gz StartedAt: 2023-10-16 09:30:26 -0400 (Mon, 16 Oct 2023) EndedAt: 2023-10-16 09:31:38 -0400 (Mon, 16 Oct 2023) EllapsedTime: 72.5 seconds RetCode: 0 Status: OK PackageFile: scRNAseqApp_1.0.1.zip PackageFileSize: 3.263 MiB