Package: scRNAseqApp Version: 1.0.1 Command: /home/biocbuild/bbs-3.17-bioc/R/bin/R CMD build --keep-empty-dirs --no-resave-data scRNAseqApp StartedAt: 2023-10-15 18:27:31 -0400 (Sun, 15 Oct 2023) EndedAt: 2023-10-15 18:28:53 -0400 (Sun, 15 Oct 2023) EllapsedTime: 81.5 seconds RetCode: 0 Status: OK PackageFile: scRNAseqApp_1.0.1.tar.gz PackageFileSize: 2.165 MiB