Package: scRNAseqApp Version: 1.0.1 Command: /Library/Frameworks/R.framework/Resources/bin/R CMD INSTALL scRNAseqApp StartedAt: 2023-10-15 16:01:53 -0400 (Sun, 15 Oct 2023) EndedAt: 2023-10-15 16:04:56 -0400 (Sun, 15 Oct 2023) EllapsedTime: 183.2 seconds RetCode: 0 Status: OK