Package: scRNAseqApp Version: 1.0.1 Command: /Library/Frameworks/R.framework/Resources/bin/R CMD build --keep-empty-dirs --no-resave-data scRNAseqApp StartedAt: 2023-10-15 21:09:23 -0400 (Sun, 15 Oct 2023) EndedAt: 2023-10-15 21:13:12 -0400 (Sun, 15 Oct 2023) EllapsedTime: 228.5 seconds RetCode: 0 Status: OK PackageFile: scRNAseqApp_1.0.1.tar.gz PackageFileSize: 2.165 MiB