Package: scRNAseqApp Version: 1.0.1 Command: rm -rf scRNAseqApp.buildbin-libdir && mkdir scRNAseqApp.buildbin-libdir && /Users/biocbuild/BBS/utils/build-universal.sh scRNAseqApp_1.0.1.tar.gz /Library/Frameworks/R.framework/Resources/bin/R scRNAseqApp.buildbin-libdir StartedAt: 2023-10-16 10:11:18 -0400 (Mon, 16 Oct 2023) EndedAt: 2023-10-16 10:14:34 -0400 (Mon, 16 Oct 2023) EllapsedTime: 195.8 seconds RetCode: 0 Status: OK PackageFile: scRNAseqApp_1.0.1.tgz PackageFileSize: 3.258 MiB