Package: scFeatures Version: 1.0.0 Command: /home/biocbuild/bbs-3.17-bioc/R/bin/R CMD build --keep-empty-dirs --no-resave-data scFeatures StartedAt: 2023-10-15 18:24:12 -0400 (Sun, 15 Oct 2023) EndedAt: 2023-10-15 18:27:15 -0400 (Sun, 15 Oct 2023) EllapsedTime: 183.1 seconds RetCode: 0 Status: OK PackageFile: scFeatures_1.0.0.tar.gz PackageFileSize: 2.918 MiB