Package: scFeatures Version: 1.0.0 Command: rm -rf scFeatures.buildbin-libdir && mkdir scFeatures.buildbin-libdir && /Users/biocbuild/BBS/utils/build-universal.sh scFeatures_1.0.0.tar.gz /Library/Frameworks/R.framework/Resources/bin/R scFeatures.buildbin-libdir StartedAt: 2023-10-16 10:09:45 -0400 (Mon, 16 Oct 2023) EndedAt: 2023-10-16 10:13:08 -0400 (Mon, 16 Oct 2023) EllapsedTime: 202.3 seconds RetCode: 0 Status: OK PackageFile: scFeatures_1.0.0.tgz PackageFileSize: 3.089 MiB