Package: scDblFinder Version: 1.14.0 Command: /Library/Frameworks/R.framework/Resources/bin/R CMD build --keep-empty-dirs --no-resave-data scDblFinder StartedAt: 2023-10-15 21:00:14 -0400 (Sun, 15 Oct 2023) EndedAt: 2023-10-15 21:06:57 -0400 (Sun, 15 Oct 2023) EllapsedTime: 402.5 seconds RetCode: 0 Status: OK PackageFile: scDblFinder_1.14.0.tar.gz PackageFileSize: 2.16 MiB