Package: scDataviz Version: 1.10.0 Command: /home/biocbuild/bbs-3.17-bioc/R/bin/R CMD build --keep-empty-dirs --no-resave-data scDataviz StartedAt: 2023-10-15 18:22:49 -0400 (Sun, 15 Oct 2023) EndedAt: 2023-10-15 18:26:39 -0400 (Sun, 15 Oct 2023) EllapsedTime: 229.4 seconds RetCode: 0 Status: OK PackageFile: scDataviz_1.10.0.tar.gz PackageFileSize: 7.396 MiB