Package: scDDboost Version: 1.2.0 Command: F:\biocbuild\bbs-3.17-bioc\R\bin\R.exe CMD INSTALL scDDboost StartedAt: 2023-10-15 16:34:12 -0400 (Sun, 15 Oct 2023) EndedAt: 2023-10-15 16:35:30 -0400 (Sun, 15 Oct 2023) EllapsedTime: 78.4 seconds RetCode: 0 Status: OK