Package: scDDboost Version: 1.2.0 Command: chmod a+r scDDboost -R && F:\biocbuild\bbs-3.17-bioc\R\bin\R.exe CMD build --keep-empty-dirs --no-resave-data scDDboost StartedAt: 2023-10-15 22:05:04 -0400 (Sun, 15 Oct 2023) EndedAt: 2023-10-15 22:07:26 -0400 (Sun, 15 Oct 2023) EllapsedTime: 141.9 seconds RetCode: 0 Status: OK PackageFile: scDDboost_1.2.0.tar.gz PackageFileSize: 544.1 KiB