Package: scDDboost Version: 1.2.0 Command: /home/biocbuild/bbs-3.17-bioc/R/bin/R CMD build --keep-empty-dirs --no-resave-data scDDboost StartedAt: 2023-10-15 18:23:07 -0400 (Sun, 15 Oct 2023) EndedAt: 2023-10-15 18:24:43 -0400 (Sun, 15 Oct 2023) EllapsedTime: 95.6 seconds RetCode: 0 Status: OK PackageFile: scDDboost_1.2.0.tar.gz PackageFileSize: 783.6 KiB