Package: scClassify Version: 1.12.0 Command: chmod a+r scClassify -R && F:\biocbuild\bbs-3.17-bioc\R\bin\R.exe CMD build --keep-empty-dirs --no-resave-data scClassify StartedAt: 2023-10-15 22:04:29 -0400 (Sun, 15 Oct 2023) EndedAt: 2023-10-15 22:06:32 -0400 (Sun, 15 Oct 2023) EllapsedTime: 123.0 seconds RetCode: 0 Status: OK PackageFile: scClassify_1.12.0.tar.gz PackageFileSize: 2.815 MiB