Package: scClassify Version: 1.12.0 Command: rm -rf scClassify.buildbin-libdir && mkdir scClassify.buildbin-libdir && F:\biocbuild\bbs-3.17-bioc\R\bin\R.exe CMD INSTALL --build --library=scClassify.buildbin-libdir scClassify_1.12.0.tar.gz StartedAt: 2023-10-16 09:28:51 -0400 (Mon, 16 Oct 2023) EndedAt: 2023-10-16 09:29:36 -0400 (Mon, 16 Oct 2023) EllapsedTime: 44.9 seconds RetCode: 0 Status: OK PackageFile: scClassify_1.12.0.zip PackageFileSize: 3.247 MiB