Package: scClassify Version: 1.12.0 Command: /home/biocbuild/bbs-3.17-bioc/R/bin/R CMD build --keep-empty-dirs --no-resave-data scClassify StartedAt: 2023-10-15 18:22:45 -0400 (Sun, 15 Oct 2023) EndedAt: 2023-10-15 18:24:12 -0400 (Sun, 15 Oct 2023) EllapsedTime: 87.5 seconds RetCode: 0 Status: OK PackageFile: scClassify_1.12.0.tar.gz PackageFileSize: 2.9 MiB