Package: scCB2 Version: 1.10.0 Command: /home/biocbuild/bbs-3.17-bioc/R/bin/R CMD build --keep-empty-dirs --no-resave-data scCB2 StartedAt: 2023-10-15 18:22:41 -0400 (Sun, 15 Oct 2023) EndedAt: 2023-10-15 18:26:27 -0400 (Sun, 15 Oct 2023) EllapsedTime: 226.1 seconds RetCode: 0 Status: OK PackageFile: scCB2_1.10.0.tar.gz PackageFileSize: 847.2 KiB