Package: scBubbletree Version: 1.2.0 Command: /home/biocbuild/bbs-3.17-bioc/R/bin/R CMD check --install=check:scBubbletree.install-out.txt --library=/home/biocbuild/bbs-3.17-bioc/R/site-library --timings scBubbletree_1.2.0.tar.gz StartedAt: 2023-10-16 00:46:35 -0400 (Mon, 16 Oct 2023) EndedAt: 2023-10-16 00:56:12 -0400 (Mon, 16 Oct 2023) EllapsedTime: 576.1 seconds RetCode: 0 Status: OK CheckDir: scBubbletree.Rcheck Warnings: 0