Package: scBubbletree Version: 1.2.0 Command: /home/biocbuild/bbs-3.17-bioc/R/bin/R CMD build --keep-empty-dirs --no-resave-data scBubbletree StartedAt: 2023-10-15 18:22:38 -0400 (Sun, 15 Oct 2023) EndedAt: 2023-10-15 18:27:46 -0400 (Sun, 15 Oct 2023) EllapsedTime: 307.9 seconds RetCode: 0 Status: OK PackageFile: scBubbletree_1.2.0.tar.gz PackageFileSize: 2.124 MiB