Package: sangeranalyseR Version: 1.10.0 Command: /home/biocbuild/bbs-3.17-bioc/R/bin/R CMD build --keep-empty-dirs --no-resave-data sangeranalyseR StartedAt: 2023-10-15 18:20:32 -0400 (Sun, 15 Oct 2023) EndedAt: 2023-10-15 18:21:14 -0400 (Sun, 15 Oct 2023) EllapsedTime: 42.8 seconds RetCode: 0 Status: OK PackageFile: sangeranalyseR_1.10.0.tar.gz PackageFileSize: 38.16 MiB