Package: sampleClassifier Version: 1.24.0 Command: /home/biocbuild/bbs-3.17-bioc/R/bin/R CMD check --install=check:sampleClassifier.install-out.txt --library=/home/biocbuild/bbs-3.17-bioc/R/site-library --timings sampleClassifier_1.24.0.tar.gz StartedAt: 2023-10-16 00:42:42 -0400 (Mon, 16 Oct 2023) EndedAt: 2023-10-16 00:51:09 -0400 (Mon, 16 Oct 2023) EllapsedTime: 507.7 seconds RetCode: 0 Status: OK CheckDir: sampleClassifier.Rcheck Warnings: 0