Package: sSeq Version: 1.38.0 Command: /home/biocbuild/bbs-3.17-bioc/R/bin/R CMD build --keep-empty-dirs --no-resave-data sSeq StartedAt: 2023-10-15 18:41:36 -0400 (Sun, 15 Oct 2023) EndedAt: 2023-10-15 18:42:48 -0400 (Sun, 15 Oct 2023) EllapsedTime: 71.5 seconds RetCode: 0 Status: OK PackageFile: sSeq_1.38.0.tar.gz PackageFileSize: 4.201 MiB